BEGIN:VCALENDAR
VERSION:2.0
METHOD:PUBLISH
CALSCALE:GREGORIAN
PRODID:-//Refresh Web Development//Helios Calendar//EN
X-FROM-URL:https://www.bayareascience.org/calendar/index.php?com=details&eID=34166
X-WR-RELCALID:BayAreaScience.org Towards Water Justice: Exploring the Effectiveness of Existing Tools and Frameworks 20230605T123000
X-WR-TIMEZONE:America/New_York
X-WR-CALNAME:BayAreaScience.org
BEGIN:VEVENT
URL;VALUE=URI:https://www.bayareascience.org/calendar/index.php?com=detail&eID=34166
DTSTART:20230605T123000
DTEND:20230605T133000
SUMMARY:Towards Water Justice: Exploring the Effectiveness of Existing Tools and Frameworks
DESCRIPTION:Water for centuries has been a resource taken for granted by society. However\, in recent years\, water shortages and ageing infrastructure have forced decision-makers to place the costly burden...\n______________________________\nThis Event Downloaded From a Helios Calendar Powered Site
LOCATION:Environment and Energy Building (Y2E2) - Stanford University Room 111\, Stanford\, CA  94305
CATEGORIES:BayAreaScience.org Events
PRIORITY:0
TRANSP:TRANSPARENT
END:VEVENT
END:VCALENDAR