BEGIN:VCALENDAR
VERSION:2.0
METHOD:PUBLISH
CALSCALE:GREGORIAN
PRODID:-//Refresh Web Development//Helios Calendar//EN
X-FROM-URL:https://www.bayareascience.org/calendar/index.php?com=details&eID=34167
X-WR-RELCALID:BayAreaScience.org ChatGPT via AR and sleep rhythms in neurodegenerative disease 20230605T123000
X-WR-TIMEZONE:America/New_York
X-WR-CALNAME:BayAreaScience.org
BEGIN:VEVENT
URL;VALUE=URI:https://www.bayareascience.org/calendar/index.php?com=detail&eID=34167
DTSTART:20230605T123000
DTEND:20230605T133000
SUMMARY:ChatGPT via AR and sleep rhythms in neurodegenerative disease
DESCRIPTION:RizzGPT: Enhancing charisma with augmented reality and GPT-4We will be sharing our project\, RizzGPT\, that recently blew up on social media. RizzGPT harnesses...\n______________________________\nThis Event Downloaded From a Helios Calendar Powered Site
LOCATION:Environment and Energy Building (Y2E2) - Stanford University Room 299\, Stanford\, CA  94305
CATEGORIES:BayAreaScience.org Events
PRIORITY:0
TRANSP:TRANSPARENT
END:VEVENT
END:VCALENDAR