BEGIN:VCALENDAR
VERSION:2.0
METHOD:PUBLISH
CALSCALE:GREGORIAN
PRODID:-//Refresh Web Development//Helios Calendar//EN
X-FROM-URL:https://www.bayareascience.org/calendar/index.php?com=details&eID=34175
X-WR-RELCALID:BayAreaScience.org Water Conservation Showcase 20230615T080000
X-WR-TIMEZONE:America/New_York
X-WR-CALNAME:BayAreaScience.org
BEGIN:VEVENT
URL;VALUE=URI:https://www.bayareascience.org/calendar/index.php?com=detail&eID=34175
DTSTART:20230615T080000
DTEND:20230615T170000
SUMMARY:Water Conservation Showcase
DESCRIPTION:Are you interested in discovering innovative ways to protect one of Earthâ€™s most valuable resources? Look no further than the FREE Water Conservation Showcase on June 15th at the San Ramon...\n______________________________\nThis Event Downloaded From a Helios Calendar Powered Site
LOCATION:San Ramon Valley Conference Center - 3301 Crow Canyon Road \, San Ramon\, CA United States 94583
CATEGORIES:BayAreaScience.org Events
PRIORITY:0
TRANSP:TRANSPARENT
END:VEVENT
END:VCALENDAR