BEGIN:VCALENDAR
VERSION:2.0
METHOD:PUBLISH
CALSCALE:GREGORIAN
PRODID:-//Refresh Web Development//Helios Calendar//EN
X-FROM-URL:https://www.bayareascience.org/calendar/index.php?com=details&eID=34176
X-WR-RELCALID:BayAreaScience.org After Dark: Pride in Our Future 20230622T180000
X-WR-TIMEZONE:America/New_York
X-WR-CALNAME:BayAreaScience.org
BEGIN:VEVENT
URL;VALUE=URI:https://www.bayareascience.org/calendar/index.php?com=detail&eID=34176
DTSTART:20230622T180000
DTEND:20230622T220000
SUMMARY:After Dark: Pride in Our Future
DESCRIPTION:What does a queer future look like? Pride celebrations typically highlight LGBTQ+ history\, culture\, and past accomplishments.Tonight at the Exploratorium we are taking a look forward instead and...\n______________________________\nThis Event Downloaded From a Helios Calendar Powered Site
LOCATION:ExplOratorium - Pier 15 (Embarcadero at Green Street)  \, San Francisco\, CA USA 94111
CATEGORIES:BayAreaScience.org Events
PRIORITY:0
TRANSP:TRANSPARENT
END:VEVENT
END:VCALENDAR