BEGIN:VCALENDAR
VERSION:2.0
METHOD:PUBLISH
CALSCALE:GREGORIAN
PRODID:-//Refresh Web Development//Helios Calendar//EN
X-FROM-URL:https://www.bayareascience.org/calendar/index.php?com=details&eID=34177
X-WR-RELCALID:BayAreaScience.org Infinitely Yours 20230702T130000
X-WR-TIMEZONE:America/New_York
X-WR-CALNAME:BayAreaScience.org
BEGIN:VEVENT
URL;VALUE=URI:https://www.bayareascience.org/calendar/index.php?com=detail&eID=34177
DTSTART:20230702T130000
DTEND:20230702T140000
SUMMARY:Infinitely Yours
DESCRIPTION:Immerse yourself in an emotional\, dream-like meditation on climate catastrophe and theÂ Anthropocene\,Â the period of time\, which constitutes a distinct geological age\, when human activities...\n______________________________\nThis Event Downloaded From a Helios Calendar Powered Site
LOCATION:ExplOratorium - Pier 15 (Embarcadero at Green Street)  \, San Francisco\, CA USA 94111
CATEGORIES:BayAreaScience.org Events
PRIORITY:0
TRANSP:TRANSPARENT
END:VEVENT
END:VCALENDAR