BEGIN:VCALENDAR
VERSION:2.0
METHOD:PUBLISH
CALSCALE:GREGORIAN
PRODID:-//Refresh Web Development//Helios Calendar//EN
X-FROM-URL:https://www.bayareascience.org/calendar/index.php?com=details&eID=34182
X-WR-RELCALID:BayAreaScience.org EV Ride and Drive 20230624T110000
X-WR-TIMEZONE:America/New_York
X-WR-CALNAME:BayAreaScience.org
BEGIN:VEVENT
URL;VALUE=URI:https://www.bayareascience.org/calendar/index.php?com=detail&eID=34182
DTSTART:20230624T110000
DTEND:20230624T150000
SUMMARY:EV Ride and Drive
DESCRIPTION:Kick off your summer by test driving electric vehicles (EVs) at Baylands Park. Explore various makes and models on the market. You can ask owners and experts questions about EVs. Take a test drive...\n______________________________\nThis Event Downloaded From a Helios Calendar Powered Site
LOCATION:Baylands Park - 999 E. Caribbean Drive   \, Sunnyvale \, CA  94089
CATEGORIES:BayAreaScience.org Events
PRIORITY:0
TRANSP:TRANSPARENT
END:VEVENT
END:VCALENDAR