BEGIN:VCALENDAR
VERSION:2.0
METHOD:PUBLISH
CALSCALE:GREGORIAN
PRODID:-//Refresh Web Development//Helios Calendar//EN
X-FROM-URL:https://www.bayareascience.org/calendar/index.php?com=details&eID=34183
X-WR-RELCALID:BayAreaScience.org Inoculating Students Against Misinformation - Livestream 20230608T160000
X-WR-TIMEZONE:America/New_York
X-WR-CALNAME:BayAreaScience.org
BEGIN:VEVENT
URL;VALUE=URI:https://www.bayareascience.org/calendar/index.php?com=detail&eID=34183
DTSTART:20230608T160000
DTEND:20230608T160000
SUMMARY:Inoculating Students Against Misinformation - Livestream
DESCRIPTION:The spread of misinformation has reached epidemic proportions. Thankfully\, science has found a solution\, inoculation theory\, which applies the logic of vaccines to misinformation.Join us...\n______________________________\nThis Event Downloaded From a Helios Calendar Powered Site
LOCATION:Skeptical Inquirer -  \, \, CA  
CATEGORIES:BayAreaScience.org Events
PRIORITY:0
TRANSP:TRANSPARENT
END:VEVENT
END:VCALENDAR