BEGIN:VCALENDAR
VERSION:2.0
METHOD:PUBLISH
CALSCALE:GREGORIAN
PRODID:-//Refresh Web Development//Helios Calendar//EN
X-FROM-URL:https://www.bayareascience.org/calendar/index.php?com=details&eID=34187
X-WR-RELCALID:BayAreaScience.org Chasing Arrows: The Truth About Recycling - Virtual Watch Party & Panel Discussion - Livestream 20230712T180000
X-WR-TIMEZONE:America/New_York
X-WR-CALNAME:BayAreaScience.org
BEGIN:VEVENT
URL;VALUE=URI:https://www.bayareascience.org/calendar/index.php?com=detail&eID=34187
DTSTART:20230712T180000
DTEND:20230712T193000
SUMMARY:Chasing Arrows: The Truth About Recycling - Virtual Watch Party & Panel Discussion - Livestream
DESCRIPTION:Reduce\, reuse\, then recycle: this was where recycling was intended to fit within the circular economy. Instead\, the petrochemical and packaging industries have exploited this fundamental premise...\n______________________________\nThis Event Downloaded From a Helios Calendar Powered Site
LOCATION:Ecology Center -  \, \, CA  
CATEGORIES:BayAreaScience.org Events
PRIORITY:0
TRANSP:TRANSPARENT
END:VEVENT
END:VCALENDAR