BEGIN:VCALENDAR
VERSION:2.0
METHOD:PUBLISH
CALSCALE:GREGORIAN
PRODID:-//Refresh Web Development//Helios Calendar//EN
X-FROM-URL:https://www.bayareascience.org/calendar/index.php?com=details&eID=34191
X-WR-RELCALID:BayAreaScience.org Beyond the Curb: Berkeley Recycling Center Tour - FULL 20230729T110000
X-WR-TIMEZONE:America/New_York
X-WR-CALNAME:BayAreaScience.org
BEGIN:VEVENT
URL;VALUE=URI:https://www.bayareascience.org/calendar/index.php?com=detail&eID=34191
DTSTART:20230729T110000
DTEND:20230729T120000
SUMMARY:Beyond the Curb: Berkeley Recycling Center Tour - FULL
DESCRIPTION:Calling all recycling enthusiasts! Join the Community Conservation Centers and the Ecology Center for an exclusive behind-the-scenes tour of the Berkeley Recycling...\n______________________________\nThis Event Downloaded From a Helios Calendar Powered Site
LOCATION:Berkeley Recycling Center - 669 Gilman St \, Berkeley\, CA  94710
CATEGORIES:BayAreaScience.org Events
PRIORITY:0
TRANSP:TRANSPARENT
END:VEVENT
END:VCALENDAR