BEGIN:VCALENDAR
VERSION:2.0
METHOD:PUBLISH
CALSCALE:GREGORIAN
PRODID:-//Refresh Web Development//Helios Calendar//EN
X-FROM-URL:https://www.bayareascience.org/calendar/index.php?com=details&eID=34195
X-WR-RELCALID:BayAreaScience.org Astronomy on Tap Santa Cruz: Investigating Dark Energy with Vera C. Rubin Observatory 20230615T183000
X-WR-TIMEZONE:America/New_York
X-WR-CALNAME:BayAreaScience.org
BEGIN:VEVENT
URL;VALUE=URI:https://www.bayareascience.org/calendar/index.php?com=detail&eID=34195
DTSTART:20230615T183000
DTEND:20230615T183000
SUMMARY:Astronomy on Tap Santa Cruz: Investigating Dark Energy with Vera C. Rubin Observatory
DESCRIPTION:Most large observatories make exquisite pictures of tiny parts of the sky\, but what if you had one that could visit all parts of the overhead sky every few nights and do that over and over again...\n______________________________\nThis Event Downloaded From a Helios Calendar Powered Site
LOCATION:Humble Sea Brewing Co - 820 Swift St \, Santa Cruz\, CA  95060
CATEGORIES:BayAreaScience.org Events
PRIORITY:0
TRANSP:TRANSPARENT
END:VEVENT
END:VCALENDAR