BEGIN:VCALENDAR
VERSION:2.0
METHOD:PUBLISH
CALSCALE:GREGORIAN
PRODID:-//Refresh Web Development//Helios Calendar//EN
X-FROM-URL:https://www.bayareascience.org/calendar/index.php?com=details&eID=34198
X-WR-RELCALID:BayAreaScience.org July LASER Event - Livestream 20230712T120000
X-WR-TIMEZONE:America/New_York
X-WR-CALNAME:BayAreaScience.org
BEGIN:VEVENT
URL;VALUE=URI:https://www.bayareascience.org/calendar/index.php?com=detail&eID=34198
DTSTART:20230712T120000
DTEND:20230712T120000
SUMMARY:July LASER Event - Livestream
DESCRIPTION:Victoria Vesna (UCLA) on "Vibrations Matter: Art & Science of Deep Listening"  Yizhou Dong (Mt Sinai) on "Lipid nanoparticles enabled mRNA therapeutics"  Sara Ludy (Media Artist)...\n______________________________\nThis Event Downloaded From a Helios Calendar Powered Site
LOCATION:LASER Leonardo Art Science Evening Rendezvous -  \, \, CA  
CATEGORIES:BayAreaScience.org Events
PRIORITY:0
TRANSP:TRANSPARENT
END:VEVENT
END:VCALENDAR