BEGIN:VCALENDAR
VERSION:2.0
METHOD:PUBLISH
CALSCALE:GREGORIAN
PRODID:-//Refresh Web Development//Helios Calendar//EN
X-FROM-URL:https://www.bayareascience.org/calendar/index.php?com=details&eID=34199
X-WR-RELCALID:BayAreaScience.org Radical Sharing 20230822T190000
X-WR-TIMEZONE:America/New_York
X-WR-CALNAME:BayAreaScience.org
BEGIN:VEVENT
URL;VALUE=URI:https://www.bayareascience.org/calendar/index.php?com=detail&eID=34199
DTSTART:20230822T190000
DTEND:20230822T190000
SUMMARY:Radical Sharing
DESCRIPTION:Our bodies\, our houses\, our land\, our space - we humans donâ€™t always like to share. Author Bette Adriaanse talks with Chelsea T. Hicks\, and virtual guests Brian Eno and Aqui Thami\, about...\n______________________________\nThis Event Downloaded From a Helios Calendar Powered Site
LOCATION:The Interval at Long Now - 2 Marina Blvd Fort Mason Center\, San Francisco\, CA  94123
CATEGORIES:BayAreaScience.org Events
PRIORITY:0
TRANSP:TRANSPARENT
END:VEVENT
END:VCALENDAR