BEGIN:VCALENDAR
VERSION:2.0
METHOD:PUBLISH
CALSCALE:GREGORIAN
PRODID:-//Refresh Web Development//Helios Calendar//EN
X-FROM-URL:https://www.bayareascience.org/calendar/index.php?com=details&eID=34201
X-WR-RELCALID:BayAreaScience.org Tomorrowâ€™s Extremes: Californiaâ€™s Climate on the Edge 20230626T173000
X-WR-TIMEZONE:America/New_York
X-WR-CALNAME:BayAreaScience.org
BEGIN:VEVENT
URL;VALUE=URI:https://www.bayareascience.org/calendar/index.php?com=detail&eID=34201
DTSTART:20230626T173000
DTEND:20230626T203000
SUMMARY:Tomorrowâ€™s Extremes: Californiaâ€™s Climate on the Edge
DESCRIPTION:With wildfires becoming increasingly frequent and intense\, droughts gripping the land\, and sea levels steadily rising\, it's evident that climate change has reached a critical point in California.The...\n______________________________\nThis Event Downloaded From a Helios Calendar Powered Site
LOCATION:swissnex San Francisco - The Embarcadero Pier 17\, Suite 800\, San Francisco\, CA  94111
CATEGORIES:BayAreaScience.org Events
PRIORITY:0
TRANSP:TRANSPARENT
END:VEVENT
END:VCALENDAR