BEGIN:VCALENDAR
VERSION:2.0
METHOD:PUBLISH
CALSCALE:GREGORIAN
PRODID:-//Refresh Web Development//Helios Calendar//EN
X-FROM-URL:https://www.bayareascience.org/calendar/index.php?com=details&eID=34202
X-WR-RELCALID:BayAreaScience.org Digital Dilemmas Salon: Social Media in Armed Conflicts 20230628T180000
X-WR-TIMEZONE:America/New_York
X-WR-CALNAME:BayAreaScience.org
BEGIN:VEVENT
URL;VALUE=URI:https://www.bayareascience.org/calendar/index.php?com=detail&eID=34202
DTSTART:20230628T180000
DTEND:20230628T203000
SUMMARY:Digital Dilemmas Salon: Social Media in Armed Conflicts
DESCRIPTION:Join us for the second event in the â€˜Digital Dilemmas Salon Seriesâ€™\, focusing on generating insights and proposed actions about how social media could be designed to better serve the...\n______________________________\nThis Event Downloaded From a Helios Calendar Powered Site
LOCATION:swissnex San Francisco - The Embarcadero Pier 17\, Suite 800\, San Francisco\, CA  94111
CATEGORIES:BayAreaScience.org Events
PRIORITY:0
TRANSP:TRANSPARENT
END:VEVENT
END:VCALENDAR