BEGIN:VCALENDAR
VERSION:2.0
METHOD:PUBLISH
CALSCALE:GREGORIAN
PRODID:-//Refresh Web Development//Helios Calendar//EN
X-FROM-URL:https://www.bayareascience.org/calendar/index.php?com=details&eID=34205
X-WR-RELCALID:BayAreaScience.org Australia 2023: FUNGA, flora and fauna 20230621T193000
X-WR-TIMEZONE:America/New_York
X-WR-CALNAME:BayAreaScience.org
BEGIN:VEVENT
URL;VALUE=URI:https://www.bayareascience.org/calendar/index.php?com=detail&eID=34205
DTSTART:20230621T193000
DTEND:20230621T213000
SUMMARY:Australia 2023: FUNGA\, flora and fauna
DESCRIPTION:A whirlwind tour of mostly mushrooms\,...\n______________________________\nThis Event Downloaded From a Helios Calendar Powered Site
LOCATION:Bay Area Mycological Society - Valley Life Sciences Building Room 1002\, UC Berkeley\, Berkeley\, CA  94720
CATEGORIES:BayAreaScience.org Events
PRIORITY:0
TRANSP:TRANSPARENT
END:VEVENT
END:VCALENDAR