BEGIN:VCALENDAR
VERSION:2.0
METHOD:PUBLISH
CALSCALE:GREGORIAN
PRODID:-//Refresh Web Development//Helios Calendar//EN
X-FROM-URL:https://www.bayareascience.org/calendar/index.php?com=details&eID=34216
X-WR-RELCALID:BayAreaScience.org Truth-O-Meter: Fact-checking content generated by a LLM 20230627T190000
X-WR-TIMEZONE:America/New_York
X-WR-CALNAME:BayAreaScience.org
BEGIN:VEVENT
URL;VALUE=URI:https://www.bayareascience.org/calendar/index.php?com=detail&eID=34216
DTSTART:20230627T190000
DTEND:20230627T203000
SUMMARY:Truth-O-Meter: Fact-checking content generated by a LLM
DESCRIPTION:A text obtained by a Large Language Model (LLM) such as GPT4 usually has issues in terms of incorrectness and hallucinations. We build a fact-checking system 'Truth-O-Meter' which identifies wrong...\n______________________________\nThis Event Downloaded From a Helios Calendar Powered Site
LOCATION:Hacker Dojo - 855 Maude Avenue \, Mountain View\, CA  94043
CATEGORIES:BayAreaScience.org Events
PRIORITY:0
TRANSP:TRANSPARENT
END:VEVENT
END:VCALENDAR