BEGIN:VCALENDAR
VERSION:2.0
METHOD:PUBLISH
CALSCALE:GREGORIAN
PRODID:-//Refresh Web Development//Helios Calendar//EN
X-FROM-URL:https://www.bayareascience.org/calendar/index.php?com=details&eID=34217
X-WR-RELCALID:BayAreaScience.org In Town Star Party 20230616T213000
X-WR-TIMEZONE:America/New_York
X-WR-CALNAME:BayAreaScience.org
BEGIN:VEVENT
URL;VALUE=URI:https://www.bayareascience.org/calendar/index.php?com=detail&eID=34217
DTSTART:20230616T213000
DTEND:20230616T233000
SUMMARY:In Town Star Party
DESCRIPTION:Events are held at the parking lot of our headquarters\, Houge Park San Jose. Event duration is 2hrs. SJAA volunteers will share night sky views from their personal telescopes.Please...\n______________________________\nThis Event Downloaded From a Helios Calendar Powered Site
LOCATION:San Jose Astronomical Association - Houge Park 3972 Twilight Drive\, San Jose\, CA  95124
CATEGORIES:BayAreaScience.org Events
PRIORITY:0
TRANSP:TRANSPARENT
END:VEVENT
END:VCALENDAR