BEGIN:VCALENDAR
VERSION:2.0
METHOD:PUBLISH
CALSCALE:GREGORIAN
PRODID:-//Refresh Web Development//Helios Calendar//EN
X-FROM-URL:https://www.bayareascience.org/calendar/index.php?com=details&eID=34233
X-WR-RELCALID:BayAreaScience.org Bioblitz at Coyote Creek Visitor Center with Keep Coyote Creek Beautiful and Bioblitz.club 20230715T090000
X-WR-TIMEZONE:America/New_York
X-WR-CALNAME:BayAreaScience.org
BEGIN:VEVENT
URL;VALUE=URI:https://www.bayareascience.org/calendar/index.php?com=detail&eID=34233
DTSTART:20230715T090000
DTEND:20230715T110000
SUMMARY:Bioblitz at Coyote Creek Visitor Center with Keep Coyote Creek Beautiful and Bioblitz.club
DESCRIPTION:Join Keep Coyote Creek Beautiful\, Bioblitz.club\, and POST for a BioBlitz! A BioBlitz is an event that focuses on finding and identifying as many species as possible in a specific area over a short...\n______________________________\nThis Event Downloaded From a Helios Calendar Powered Site
LOCATION:Coyote Creek Visitor's Center - 19245 Malaguerra Ave \, Morgan Hill\, CA  95037
CATEGORIES:BayAreaScience.org Events
PRIORITY:0
TRANSP:TRANSPARENT
END:VEVENT
END:VCALENDAR