BEGIN:VCALENDAR
VERSION:2.0
METHOD:PUBLISH
CALSCALE:GREGORIAN
PRODID:-//Refresh Web Development//Helios Calendar//EN
X-FROM-URL:https://www.bayareascience.org/calendar/index.php?com=details&eID=34239
X-WR-RELCALID:BayAreaScience.org City Public Star Party 20231216T170000
X-WR-TIMEZONE:America/New_York
X-WR-CALNAME:BayAreaScience.org
BEGIN:VEVENT
URL;VALUE=URI:https://www.bayareascience.org/calendar/index.php?com=detail&eID=34239
DTSTART:20231216T170000
DTEND:20231216T200000
SUMMARY:City Public Star Party
DESCRIPTION:Come join the San Francisco Amateur Astronomers for free public stargazing of the Moon\, planets\, globular clusters and more!SFAA members with telescopes are encouraged to attend and share...\n______________________________\nThis Event Downloaded From a Helios Calendar Powered Site
LOCATION:City Star Parties - Parade Grounds at the Presidio - 103 Montgomery St. Main Post Lawn\, San Francisco\, CA  94129
CATEGORIES:BayAreaScience.org Events
PRIORITY:0
TRANSP:TRANSPARENT
END:VEVENT
END:VCALENDAR