BEGIN:VCALENDAR
VERSION:2.0
METHOD:PUBLISH
CALSCALE:GREGORIAN
PRODID:-//Refresh Web Development//Helios Calendar//EN
X-FROM-URL:https://www.bayareascience.org/calendar/index.php?com=details&eID=34242
X-WR-RELCALID:BayAreaScience.org How copepods cope and sea stars survive: Understanding reslilence and vulnerability of marine animals in a changing climate 20230816T160000
X-WR-TIMEZONE:America/New_York
X-WR-CALNAME:BayAreaScience.org
BEGIN:VEVENT
URL;VALUE=URI:https://www.bayareascience.org/calendar/index.php?com=detail&eID=34242
DTSTART:20230816T160000
DTEND:20230816T170000
SUMMARY:How copepods cope and sea stars survive: Understanding reslilence and vulnerability of marine animals in a changing climate
DESCRIPTION:Speaker: Dr. Melissa Pespeni\, UC DavisRegister...\n______________________________\nThis Event Downloaded From a Helios Calendar Powered Site
LOCATION:UC Davis Bodega Marine Laboratory - 2099 Westside Rd Lecture Hall\, Bodega Bay\, CA  94923
CATEGORIES:BayAreaScience.org Events
PRIORITY:0
TRANSP:TRANSPARENT
END:VEVENT
END:VCALENDAR