BEGIN:VCALENDAR
VERSION:2.0
METHOD:PUBLISH
CALSCALE:GREGORIAN
PRODID:-//Refresh Web Development//Helios Calendar//EN
X-FROM-URL:https://www.bayareascience.org/calendar/index.php?com=details&eID=34257
X-WR-RELCALID:BayAreaScience.org Re-play of The Future of Star Parties/GSSP 20230701T193000
X-WR-TIMEZONE:America/New_York
X-WR-CALNAME:BayAreaScience.org
BEGIN:VEVENT
URL;VALUE=URI:https://www.bayareascience.org/calendar/index.php?com=detail&eID=34257
DTSTART:20230701T193000
DTEND:20230701T210000
SUMMARY:Re-play of The Future of Star Parties/GSSP
DESCRIPTION:This month\, we are re-playing one of our older talks presented by Richard Ozer to SJAA SIG (Special Imaging Group).Rich Ozer\, the Director of the Golden State Star Party (GSSP)...\n______________________________\nThis Event Downloaded From a Helios Calendar Powered Site
LOCATION:San Jose Astronomical Association - Houge Park 3972 Twilight Drive\, San Jose\, CA  95124
CATEGORIES:BayAreaScience.org Events
PRIORITY:0
TRANSP:TRANSPARENT
END:VEVENT
END:VCALENDAR