BEGIN:VCALENDAR
VERSION:2.0
METHOD:PUBLISH
CALSCALE:GREGORIAN
PRODID:-//Refresh Web Development//Helios Calendar//EN
X-FROM-URL:https://www.bayareascience.org/calendar/index.php?com=details&eID=34259
X-WR-RELCALID:BayAreaScience.org  Offshore Wind and Seabirds in California - Livestream 20230720T190000
X-WR-TIMEZONE:America/New_York
X-WR-CALNAME:BayAreaScience.org
BEGIN:VEVENT
URL;VALUE=URI:https://www.bayareascience.org/calendar/index.php?com=detail&eID=34259
DTSTART:20230720T190000
DTEND:20230720T190000
SUMMARY: Offshore Wind and Seabirds in California - Livestream
DESCRIPTION:Offshore wind is an important part of the solution to meet Californiaâ€™s clean renewable energy goals\, reduce our carbon pollution\, and mitigate the worst outcomes of climate change. But...\n______________________________\nThis Event Downloaded From a Helios Calendar Powered Site
LOCATION:Golden Gate Audubon Society -  \, \, CA  
CATEGORIES:BayAreaScience.org Events
PRIORITY:0
TRANSP:TRANSPARENT
END:VEVENT
END:VCALENDAR