BEGIN:VCALENDAR
VERSION:2.0
METHOD:PUBLISH
CALSCALE:GREGORIAN
PRODID:-//Refresh Web Development//Helios Calendar//EN
X-FROM-URL:https://www.bayareascience.org/calendar/index.php?com=details&eID=34268
X-WR-RELCALID:BayAreaScience.org Meiosis is a Primary Cause of Death in Young Plants and Animals 20231002T120000
X-WR-TIMEZONE:America/New_York
X-WR-CALNAME:BayAreaScience.org
BEGIN:VEVENT
URL;VALUE=URI:https://www.bayareascience.org/calendar/index.php?com=detail&eID=34268
DTSTART:20231002T120000
DTEND:20231002T125000
SUMMARY:Meiosis is a Primary Cause of Death in Young Plants and Animals
DESCRIPTION:Speaker: Dr. Dan Levitis\, Sonoma Ecology Center\n______________________________\nThis Event Downloaded From a Helios Calendar Powered Site
LOCATION:Sonoma State University - Biology Colloquium - 1801 East Cotati Ave Stevenson Hall Room 1300\, Rohnert Park\, CA  94928
CATEGORIES:BayAreaScience.org Events
PRIORITY:0
TRANSP:TRANSPARENT
END:VEVENT
END:VCALENDAR