BEGIN:VCALENDAR
VERSION:2.0
METHOD:PUBLISH
CALSCALE:GREGORIAN
PRODID:-//Refresh Web Development//Helios Calendar//EN
X-FROM-URL:https://www.bayareascience.org/calendar/index.php?com=details&eID=34272
X-WR-RELCALID:BayAreaScience.org Biofilm Benefactors: Unveiling the Role of Biofilms in Subsurface and Plant Rhizosphere Microbial Communities 20231030T120000
X-WR-TIMEZONE:America/New_York
X-WR-CALNAME:BayAreaScience.org
BEGIN:VEVENT
URL;VALUE=URI:https://www.bayareascience.org/calendar/index.php?com=detail&eID=34272
DTSTART:20231030T120000
DTEND:20231030T125000
SUMMARY:Biofilm Benefactors: Unveiling the Role of Biofilms in Subsurface and Plant Rhizosphere Microbial Communities
DESCRIPTION:Speaker: Dr. Mingfei Chen\, Lawrence Berkeley National Labs\n______________________________\nThis Event Downloaded From a Helios Calendar Powered Site
LOCATION:Sonoma State University - Biology Colloquium - 1801 East Cotati Ave Stevenson Hall Room 1300\, Rohnert Park\, CA  94928
CATEGORIES:BayAreaScience.org Events
PRIORITY:0
TRANSP:TRANSPARENT
END:VEVENT
END:VCALENDAR