BEGIN:VCALENDAR
VERSION:2.0
METHOD:PUBLISH
CALSCALE:GREGORIAN
PRODID:-//Refresh Web Development//Helios Calendar//EN
X-FROM-URL:https://www.bayareascience.org/calendar/index.php?com=details&eID=34281
X-WR-RELCALID:BayAreaScience.org NightLife: Hella 20230727T180000
X-WR-TIMEZONE:America/New_York
X-WR-CALNAME:BayAreaScience.org
BEGIN:VEVENT
URL;VALUE=URI:https://www.bayareascience.org/calendar/index.php?com=detail&eID=34281
DTSTART:20230727T180000
DTEND:20230727T220000
SUMMARY:NightLife: Hella
DESCRIPTION:YAAAAY AREAAAA! This NightLife\, weâ€™re hella juiced to honor our favorite place: The Bay. Come through and celebrate the regionâ€™s famed and far-reaching legacy\, from hip-hop...\n______________________________\nThis Event Downloaded From a Helios Calendar Powered Site
LOCATION:California Academy of Sciences - 55 Music Concourse Dr. \, San Francisco\, CA USA 94118
CATEGORIES:BayAreaScience.org Events
PRIORITY:0
TRANSP:TRANSPARENT
END:VEVENT
END:VCALENDAR