BEGIN:VCALENDAR
VERSION:2.0
METHOD:PUBLISH
CALSCALE:GREGORIAN
PRODID:-//Refresh Web Development//Helios Calendar//EN
X-FROM-URL:https://www.bayareascience.org/calendar/index.php?com=details&eID=34282
X-WR-RELCALID:BayAreaScience.org After Dark: Listen 20230727T180000
X-WR-TIMEZONE:America/New_York
X-WR-CALNAME:BayAreaScience.org
BEGIN:VEVENT
URL;VALUE=URI:https://www.bayareascience.org/calendar/index.php?com=detail&eID=34282
DTSTART:20230727T180000
DTEND:20230727T220000
SUMMARY:After Dark: Listen
DESCRIPTION:Shhh . . . do you hear that? Hearing is one of the first senses a new baby usually develops as a way of understanding the world\, as it allows us to take in complex and nuanced information about...\n______________________________\nThis Event Downloaded From a Helios Calendar Powered Site
LOCATION:ExplOratorium - Pier 15 (Embarcadero at Green Street)  \, San Francisco\, CA USA 94111
CATEGORIES:BayAreaScience.org Events
PRIORITY:0
TRANSP:TRANSPARENT
END:VEVENT
END:VCALENDAR