BEGIN:VCALENDAR
VERSION:2.0
METHOD:PUBLISH
CALSCALE:GREGORIAN
PRODID:-//Refresh Web Development//Helios Calendar//EN
X-FROM-URL:https://www.bayareascience.org/calendar/index.php?com=details&eID=34284
X-WR-RELCALID:BayAreaScience.org Exploring the Art, Culture, and Science of Solar Eclipses - Livestream 20230818T090000
X-WR-TIMEZONE:America/New_York
X-WR-CALNAME:BayAreaScience.org
BEGIN:VEVENT
URL;VALUE=URI:https://www.bayareascience.org/calendar/index.php?com=detail&eID=34284
DTSTART:20230818T090000
DTEND:20230818T163000
SUMMARY:Exploring the Art\, Culture\, and Science of Solar Eclipses - Livestream
DESCRIPTION:ASP2023 promises to be exciting as we approach our two upcoming solar eclipses crossing the Northern Hemisphere\; the Annual Solar Eclipse on October 14\, 2023\, and the Total Solar Eclipse on April...\n______________________________\nThis Event Downloaded From a Helios Calendar Powered Site
LOCATION:Astronomical Society of the Pacific -  \, \, CA  
CATEGORIES:BayAreaScience.org Events
PRIORITY:0
TRANSP:TRANSPARENT
END:VEVENT
END:VCALENDAR