BEGIN:VCALENDAR
VERSION:2.0
METHOD:PUBLISH
CALSCALE:GREGORIAN
PRODID:-//Refresh Web Development//Helios Calendar//EN
X-FROM-URL:https://www.bayareascience.org/calendar/index.php?com=details&eID=34288
X-WR-RELCALID:BayAreaScience.org California Nature Trivia with California Academy of Science and Deep Look 20230718T190000
X-WR-TIMEZONE:America/New_York
X-WR-CALNAME:BayAreaScience.org
BEGIN:VEVENT
URL;VALUE=URI:https://www.bayareascience.org/calendar/index.php?com=detail&eID=34288
DTSTART:20230718T190000
DTEND:20230718T210000
SUMMARY:California Nature Trivia with California Academy of Science and Deep Look
DESCRIPTION:KQED and the California Academy of Sciences challenge you to a night of nature trivia! Join KQED Science Reporter Laura Klivans and Academy scientists and curators for questions about local flora...\n______________________________\nThis Event Downloaded From a Helios Calendar Powered Site
LOCATION:KQED Headquarters - 2601 Mariposa Street \, San Francisco\, CA  94110
CATEGORIES:BayAreaScience.org Events
PRIORITY:0
TRANSP:TRANSPARENT
END:VEVENT
END:VCALENDAR