BEGIN:VCALENDAR
VERSION:2.0
METHOD:PUBLISH
CALSCALE:GREGORIAN
PRODID:-//Refresh Web Development//Helios Calendar//EN
X-FROM-URL:https://www.bayareascience.org/calendar/index.php?com=details&eID=34290
X-WR-RELCALID:BayAreaScience.org Astronomy on Tap Santa Cruz: The Shadow the Scientist Initiative 20230720T183000
X-WR-TIMEZONE:America/New_York
X-WR-CALNAME:BayAreaScience.org
BEGIN:VEVENT
URL;VALUE=URI:https://www.bayareascience.org/calendar/index.php?com=detail&eID=34290
DTSTART:20230720T183000
DTEND:20230720T183000
SUMMARY:Astronomy on Tap Santa Cruz: The Shadow the Scientist Initiative
DESCRIPTION:Have you ever wondered how scientists actually use the largest telescopes in the world? Since 2020\, you can actually eavesdrop in real time and interact with scientists while they carry out...\n______________________________\nThis Event Downloaded From a Helios Calendar Powered Site
LOCATION:Humble Sea Brewing Co - 820 Swift St \, Santa Cruz\, CA  95060
CATEGORIES:BayAreaScience.org Events
PRIORITY:0
TRANSP:TRANSPARENT
END:VEVENT
END:VCALENDAR