BEGIN:VCALENDAR
VERSION:2.0
METHOD:PUBLISH
CALSCALE:GREGORIAN
PRODID:-//Refresh Web Development//Helios Calendar//EN
X-FROM-URL:https://www.bayareascience.org/calendar/index.php?com=details&eID=34291
X-WR-RELCALID:BayAreaScience.org Re-examining the 'wood-wide web' 20230828T200000
X-WR-TIMEZONE:America/New_York
X-WR-CALNAME:BayAreaScience.org
BEGIN:VEVENT
URL;VALUE=URI:https://www.bayareascience.org/calendar/index.php?com=detail&eID=34291
DTSTART:20230828T200000
DTEND:20230828T213000
SUMMARY:Re-examining the 'wood-wide web'
DESCRIPTION:In an exclusive Bay Area presentation\,...\n______________________________\nThis Event Downloaded From a Helios Calendar Powered Site
LOCATION:Bay Area Mycological Society - 338 Koshland Hall UC Berkeley\, Berkeley\, CA  94720
CATEGORIES:BayAreaScience.org Events
PRIORITY:0
TRANSP:TRANSPARENT
END:VEVENT
END:VCALENDAR