BEGIN:VCALENDAR
VERSION:2.0
METHOD:PUBLISH
CALSCALE:GREGORIAN
PRODID:-//Refresh Web Development//Helios Calendar//EN
X-FROM-URL:https://www.bayareascience.org/calendar/index.php?com=details&eID=34296
X-WR-RELCALID:BayAreaScience.org From Snow To Flow - When Snow Falls On A Mountain, Where Does It Go? - Livestream 20230720T180000
X-WR-TIMEZONE:America/New_York
X-WR-CALNAME:BayAreaScience.org
BEGIN:VEVENT
URL;VALUE=URI:https://www.bayareascience.org/calendar/index.php?com=detail&eID=34296
DTSTART:20230720T180000
DTEND:20230720T193000
SUMMARY:From Snow To Flow - When Snow Falls On A Mountain\, Where Does It Go? - Livestream
DESCRIPTION:\n______________________________\nThis Event Downloaded From a Helios Calendar Powered Site
LOCATION:US Geological Survey Public Lecture Series -  \, \, CA  
CATEGORIES:BayAreaScience.org Events
PRIORITY:0
TRANSP:TRANSPARENT
END:VEVENT
END:VCALENDAR