BEGIN:VCALENDAR
VERSION:2.0
METHOD:PUBLISH
CALSCALE:GREGORIAN
PRODID:-//Refresh Web Development//Helios Calendar//EN
X-FROM-URL:https://www.bayareascience.org/calendar/index.php?com=details&eID=34298
X-WR-RELCALID:BayAreaScience.org All Hands on Science: Cranky Critters 20230802T110000
X-WR-TIMEZONE:America/New_York
X-WR-CALNAME:BayAreaScience.org
BEGIN:VEVENT
URL;VALUE=URI:https://www.bayareascience.org/calendar/index.php?com=detail&eID=34298
DTSTART:20230802T110000
DTEND:20230802T150000
SUMMARY:All Hands on Science: Cranky Critters
DESCRIPTION:Join us for an all-ages hands-on workshop where you can create an artifact to take home with you! Weâ€™ll repurpose and reimagine everyday materials to create little mechanical marvels.Create...\n______________________________\nThis Event Downloaded From a Helios Calendar Powered Site
LOCATION:ExplOratorium - Pier 15 (Embarcadero at Green Street)  \, San Francisco\, CA USA 94111
CATEGORIES:BayAreaScience.org Events
PRIORITY:0
TRANSP:TRANSPARENT
END:VEVENT
END:VCALENDAR