BEGIN:VCALENDAR
VERSION:2.0
METHOD:PUBLISH
CALSCALE:GREGORIAN
PRODID:-//Refresh Web Development//Helios Calendar//EN
X-FROM-URL:https://www.bayareascience.org/calendar/index.php?com=details&eID=34302
X-WR-RELCALID:BayAreaScience.org Fear and Loathing in the Heavens: The 1910 Return of Halleyâ€™s Comet 20230907T190000
X-WR-TIMEZONE:America/New_York
X-WR-CALNAME:BayAreaScience.org
BEGIN:VEVENT
URL;VALUE=URI:https://www.bayareascience.org/calendar/index.php?com=detail&eID=34302
DTSTART:20230907T190000
DTEND:20230907T190000
SUMMARY:Fear and Loathing in the Heavens: The 1910 Return of Halleyâ€™s Comet
DESCRIPTION:In 1705\, Edmond Halley liberated humanity from the belief that comets were portents of doom. Yet\, two centuries later\, in 1910\, as Halleyâ€™s Comet returned to perihelion\, newspapers...\n______________________________\nThis Event Downloaded From a Helios Calendar Powered Site
LOCATION:Los Altos Public Library - 13 S San Antonio Rd Peninsula Astronomical Society\, Los Altos\, CA  94022
CATEGORIES:BayAreaScience.org Events
PRIORITY:0
TRANSP:TRANSPARENT
END:VEVENT
END:VCALENDAR