BEGIN:VCALENDAR
VERSION:2.0
METHOD:PUBLISH
CALSCALE:GREGORIAN
PRODID:-//Refresh Web Development//Helios Calendar//EN
X-FROM-URL:https://www.bayareascience.org/calendar/index.php?com=details&eID=34306
X-WR-RELCALID:BayAreaScience.org Science Safari - Let's talk Herptiles! 20230729T103000
X-WR-TIMEZONE:America/New_York
X-WR-CALNAME:BayAreaScience.org
BEGIN:VEVENT
URL;VALUE=URI:https://www.bayareascience.org/calendar/index.php?com=detail&eID=34306
DTSTART:20230729T103000
DTEND:20230729T113000
SUMMARY:Science Safari - Let's talk Herptiles!
DESCRIPTION:Come learn about our scaly and slimy friends at YSI! Learn about the amazing group of Herptiles and what makes them such unique creatures. Have a chance to touch a toadâ€™s warty skin\, feel...\n______________________________\nThis Event Downloaded From a Helios Calendar Powered Site
LOCATION:Youth Science Institute - Vasona Lake Park 333 Blossom Hill Road\, Los Gatos\, CA  
CATEGORIES:BayAreaScience.org Events
PRIORITY:0
TRANSP:TRANSPARENT
END:VEVENT
END:VCALENDAR