BEGIN:VCALENDAR
VERSION:2.0
METHOD:PUBLISH
CALSCALE:GREGORIAN
PRODID:-//Refresh Web Development//Helios Calendar//EN
X-FROM-URL:https://www.bayareascience.org/calendar/index.php?com=details&eID=34307
X-WR-RELCALID:BayAreaScience.org Plant Identification at Sanborn 20230902T080000
X-WR-TIMEZONE:America/New_York
X-WR-CALNAME:BayAreaScience.org
BEGIN:VEVENT
URL;VALUE=URI:https://www.bayareascience.org/calendar/index.php?com=detail&eID=34307
DTSTART:20230902T080000
DTEND:20230902T120000
SUMMARY:Plant Identification at Sanborn
DESCRIPTION:Join YSI as we walk through the Sanborn trails and look for a variety of plants and learn how to identify them! Are they native? Medicinal? Edible? Poisonous? Join us to find out! Ages 8 - 12 with...\n______________________________\nThis Event Downloaded From a Helios Calendar Powered Site
LOCATION:Sanborn Science and Nature Center - 16055 Sanborn Rd \, Saratoga\, CA  95070
CATEGORIES:BayAreaScience.org Events
PRIORITY:0
TRANSP:TRANSPARENT
END:VEVENT
END:VCALENDAR