BEGIN:VCALENDAR
VERSION:2.0
METHOD:PUBLISH
CALSCALE:GREGORIAN
PRODID:-//Refresh Web Development//Helios Calendar//EN
X-FROM-URL:https://www.bayareascience.org/calendar/index.php?com=details&eID=34315
X-WR-RELCALID:BayAreaScience.org Nerd Nite SF: Pirates, Baby Animals, & Living on All Algae Diet  20230816T200000
X-WR-TIMEZONE:America/New_York
X-WR-CALNAME:BayAreaScience.org
BEGIN:VEVENT
URL;VALUE=URI:https://www.bayareascience.org/calendar/index.php?com=detail&eID=34315
DTSTART:20230816T200000
DTEND:20230816T200000
SUMMARY:Nerd Nite SF: Pirates\, Baby Animals\, & Living on All Algae Diet 
DESCRIPTION:Nursery Earth: The Wondrous Lives of Baby Animals (and the Incredible Sacrifices of Their Parents)At any given moment\, most animals on the planet are babies - from chicks...\n______________________________\nThis Event Downloaded From a Helios Calendar Powered Site
LOCATION:Rickshaw Stop - 155 Fell St. @ Van Ness \, San Francisco\, CA  94102
CATEGORIES:BayAreaScience.org Events
PRIORITY:0
TRANSP:TRANSPARENT
END:VEVENT
END:VCALENDAR