BEGIN:VCALENDAR
VERSION:2.0
METHOD:PUBLISH
CALSCALE:GREGORIAN
PRODID:-//Refresh Web Development//Helios Calendar//EN
X-FROM-URL:https://www.bayareascience.org/calendar/index.php?com=details&eID=34317
X-WR-RELCALID:BayAreaScience.org After first contact: meeting the cosmic in-law - Livestream 20230727T090000
X-WR-TIMEZONE:America/New_York
X-WR-CALNAME:BayAreaScience.org
BEGIN:VEVENT
URL;VALUE=URI:https://www.bayareascience.org/calendar/index.php?com=detail&eID=34317
DTSTART:20230727T090000
DTEND:20230727T103000
SUMMARY:After first contact: meeting the cosmic in-law - Livestream
DESCRIPTION:A workshop considering some of the following questions:Â  Should we reply? Why and how should we send a message? What do we say after we say hello? In deciphering the message\, what have we assumed?...\n______________________________\nThis Event Downloaded From a Helios Calendar Powered Site
LOCATION:SETI Institute -  \, \, CA  
CATEGORIES:BayAreaScience.org Events
PRIORITY:0
TRANSP:TRANSPARENT
END:VEVENT
END:VCALENDAR