BEGIN:VCALENDAR
VERSION:2.0
METHOD:PUBLISH
CALSCALE:GREGORIAN
PRODID:-//Refresh Web Development//Helios Calendar//EN
X-FROM-URL:https://www.bayareascience.org/calendar/index.php?com=details&eID=34318
X-WR-RELCALID:BayAreaScience.org Nested Dust Shells Around the Wolf-Rayet Binary WR 140 - Livestream 20230805T200000
X-WR-TIMEZONE:America/New_York
X-WR-CALNAME:BayAreaScience.org
BEGIN:VEVENT
URL;VALUE=URI:https://www.bayareascience.org/calendar/index.php?com=detail&eID=34318
DTSTART:20230805T200000
DTEND:20230805T200000
SUMMARY:Nested Dust Shells Around the Wolf-Rayet Binary WR 140 - Livestream
DESCRIPTION:Massive colliding-wind binaries that host a Wolf - Rayet (WR) star present a potentially important source of dust and chemical enrichment in the interstellar medium. However\, the chemical composition...\n______________________________\nThis Event Downloaded From a Helios Calendar Powered Site
LOCATION:San Jose Astronomical Society -  \, \, CA  
CATEGORIES:BayAreaScience.org Events
PRIORITY:0
TRANSP:TRANSPARENT
END:VEVENT
END:VCALENDAR