BEGIN:VCALENDAR
VERSION:2.0
METHOD:PUBLISH
CALSCALE:GREGORIAN
PRODID:-//Refresh Web Development//Helios Calendar//EN
X-FROM-URL:https://www.bayareascience.org/calendar/index.php?com=details&eID=34323
X-WR-RELCALID:BayAreaScience.org Hate in the Homeland: The New Global Far Right - Livestream 20230803T160000
X-WR-TIMEZONE:America/New_York
X-WR-CALNAME:BayAreaScience.org
BEGIN:VEVENT
URL;VALUE=URI:https://www.bayareascience.org/calendar/index.php?com=detail&eID=34323
DTSTART:20230803T160000
DTEND:20230803T160000
SUMMARY:Hate in the Homeland: The New Global Far Right - Livestream
DESCRIPTION:Hate crimes. Misinformation and conspiracy theories. Foiled white-supremacist plots. The signs of growing far-Right extremism are all around us\, and communities around the globe are struggling...\n______________________________\nThis Event Downloaded From a Helios Calendar Powered Site
LOCATION:Skeptical Inquirer -  \, \, CA  
CATEGORIES:BayAreaScience.org Events
PRIORITY:0
TRANSP:TRANSPARENT
END:VEVENT
END:VCALENDAR