BEGIN:VCALENDAR
VERSION:2.0
METHOD:PUBLISH
CALSCALE:GREGORIAN
PRODID:-//Refresh Web Development//Helios Calendar//EN
X-FROM-URL:https://www.bayareascience.org/calendar/index.php?com=details&eID=34331
X-WR-RELCALID:BayAreaScience.org Speaker Series on Malaria Eradication - Livestream 20230803T090000
X-WR-TIMEZONE:America/New_York
X-WR-CALNAME:BayAreaScience.org
BEGIN:VEVENT
URL;VALUE=URI:https://www.bayareascience.org/calendar/index.php?com=detail&eID=34331
DTSTART:20230803T090000
DTEND:20230803T100000
SUMMARY:Speaker Series on Malaria Eradication - Livestream
DESCRIPTION:Transmitted through mosquito bites\, malaria is a life-threatening disease that endangers nearly half of the worldâ€™s population. Despite being preventable and curable\,...\n______________________________\nThis Event Downloaded From a Helios Calendar Powered Site
LOCATION:Stanford University -  \, \, CA  
CATEGORIES:BayAreaScience.org Events
PRIORITY:0
TRANSP:TRANSPARENT
END:VEVENT
END:VCALENDAR