BEGIN:VCALENDAR
VERSION:2.0
METHOD:PUBLISH
CALSCALE:GREGORIAN
PRODID:-//Refresh Web Development//Helios Calendar//EN
X-FROM-URL:https://www.bayareascience.org/calendar/index.php?com=details&eID=34334
X-WR-RELCALID:BayAreaScience.org  Innovating Solutions at the Ocean-Climate Nexus - Livestream 20231004T110000
X-WR-TIMEZONE:America/New_York
X-WR-CALNAME:BayAreaScience.org
BEGIN:VEVENT
URL;VALUE=URI:https://www.bayareascience.org/calendar/index.php?com=detail&eID=34334
DTSTART:20231004T110000
DTEND:20231004T120000
SUMMARY: Innovating Solutions at the Ocean-Climate Nexus - Livestream
DESCRIPTION:This talk will provide an introduction to Ocean Visions\, a relatively new organization working through a collaborative partnership to advance a new agenda for solutions...\n______________________________\nThis Event Downloaded From a Helios Calendar Powered Site
LOCATION:Monterey Bay Aquarium Research Institute -  \, \, CA  
CATEGORIES:BayAreaScience.org Events
PRIORITY:0
TRANSP:TRANSPARENT
END:VEVENT
END:VCALENDAR