BEGIN:VCALENDAR
VERSION:2.0
METHOD:PUBLISH
CALSCALE:GREGORIAN
PRODID:-//Refresh Web Development//Helios Calendar//EN
X-FROM-URL:https://www.bayareascience.org/calendar/index.php?com=details&eID=34336
X-WR-RELCALID:BayAreaScience.org Counter Culture Labs: Lake Temescal Bioblitz 20230805T130000
X-WR-TIMEZONE:America/New_York
X-WR-CALNAME:BayAreaScience.org
BEGIN:VEVENT
URL;VALUE=URI:https://www.bayareascience.org/calendar/index.php?com=detail&eID=34336
DTSTART:20230805T130000
DTEND:20230805T150000
SUMMARY:Counter Culture Labs: Lake Temescal Bioblitz
DESCRIPTION:Come join us at Lake Temescal at for a bioblitz! We will blitz to record as much biodiversity as we can in 1 hour\, as well as talk about current environmental efforts for the lake\, for our lab\,...\n______________________________\nThis Event Downloaded From a Helios Calendar Powered Site
LOCATION:Lake Temescal Regional Recreation Area - 6502 Broadway Terrace \, Oakland\, CA  94618
CATEGORIES:BayAreaScience.org Events
PRIORITY:0
TRANSP:TRANSPARENT
END:VEVENT
END:VCALENDAR