BEGIN:VCALENDAR
VERSION:2.0
METHOD:PUBLISH
CALSCALE:GREGORIAN
PRODID:-//Refresh Web Development//Helios Calendar//EN
X-FROM-URL:https://www.bayareascience.org/calendar/index.php?com=details&eID=34337
X-WR-RELCALID:BayAreaScience.org  NightLife: Pacific Island Paradise 20230824T180000
X-WR-TIMEZONE:America/New_York
X-WR-CALNAME:BayAreaScience.org
BEGIN:VEVENT
URL;VALUE=URI:https://www.bayareascience.org/calendar/index.php?com=detail&eID=34337
DTSTART:20230824T180000
DTEND:20230824T220000
SUMMARY: NightLife: Pacific Island Paradise
DESCRIPTION:Get ready for an unforgettable NightLife dedicated to the vibrant Pacific Islands of Melanesia\, Micronesia\, and Polynesia. Celebrate Pasifika arts\, culture\, and science with a night of CHamaru...\n______________________________\nThis Event Downloaded From a Helios Calendar Powered Site
LOCATION:California Academy of Sciences - 55 Music Concourse Dr. \, San Francisco\, CA USA 94118
CATEGORIES:BayAreaScience.org Events
PRIORITY:0
TRANSP:TRANSPARENT
END:VEVENT
END:VCALENDAR