BEGIN:VCALENDAR
VERSION:2.0
METHOD:PUBLISH
CALSCALE:GREGORIAN
PRODID:-//Refresh Web Development//Helios Calendar//EN
X-FROM-URL:https://www.bayareascience.org/calendar/index.php?com=details&eID=34342
X-WR-RELCALID:BayAreaScience.org Diary of a Field Biologist 20230803T190000
X-WR-TIMEZONE:America/New_York
X-WR-CALNAME:BayAreaScience.org
BEGIN:VEVENT
URL;VALUE=URI:https://www.bayareascience.org/calendar/index.php?com=detail&eID=34342
DTSTART:20230803T190000
DTEND:20230803T200000
SUMMARY:Diary of a Field Biologist
DESCRIPTION:Speaker: Erin Person\, UC Berkeley\n______________________________\nThis Event Downloaded From a Helios Calendar Powered Site
LOCATION:Ocean View Brew Works - 627 San Pablo Ave. \, Albany\, CA  94706
CATEGORIES:BayAreaScience.org Events
PRIORITY:0
TRANSP:TRANSPARENT
END:VEVENT
END:VCALENDAR