BEGIN:VCALENDAR
VERSION:2.0
METHOD:PUBLISH
CALSCALE:GREGORIAN
PRODID:-//Refresh Web Development//Helios Calendar//EN
X-FROM-URL:https://www.bayareascience.org/calendar/index.php?com=details&eID=34352
X-WR-RELCALID:BayAreaScience.org PixInsight post-processing basics - Messier 13 The Great Hercules Cluster 20230901T200000
X-WR-TIMEZONE:America/New_York
X-WR-CALNAME:BayAreaScience.org
BEGIN:VEVENT
URL;VALUE=URI:https://www.bayareascience.org/calendar/index.php?com=detail&eID=34352
DTSTART:20230901T200000
DTEND:20230901T200000
SUMMARY:PixInsight post-processing basics - Messier 13 The Great Hercules Cluster
DESCRIPTION:Frank will pick up where he left off in his last astrophotography presentation on December. 2\, 2022. He will explain key fundamentals of post processing and walk through his approach to processing...\n______________________________\nThis Event Downloaded From a Helios Calendar Powered Site
LOCATION:College of San Mateo Bldg 36 - 1700 W Hillsdale Rd \, San Mateo\, CA USA 94402
CATEGORIES:BayAreaScience.org Events
PRIORITY:0
TRANSP:TRANSPARENT
END:VEVENT
END:VCALENDAR