BEGIN:VCALENDAR
VERSION:2.0
METHOD:PUBLISH
CALSCALE:GREGORIAN
PRODID:-//Refresh Web Development//Helios Calendar//EN
X-FROM-URL:https://www.bayareascience.org/calendar/index.php?com=details&eID=34354
X-WR-RELCALID:BayAreaScience.org Indigenous Communities in the United States: Leaders in Climate Adaptation - Livestream 20230831T180000
X-WR-TIMEZONE:America/New_York
X-WR-CALNAME:BayAreaScience.org
BEGIN:VEVENT
URL;VALUE=URI:https://www.bayareascience.org/calendar/index.php?com=detail&eID=34354
DTSTART:20230831T180000
DTEND:20230831T180000
SUMMARY:Indigenous Communities in the United States: Leaders in Climate Adaptation - Livestream
DESCRIPTION:Learn About:The effects of climate change on Indigenous communities.Â How Indigenous communities are adapting to climate change.Â The benefits...\n______________________________\nThis Event Downloaded From a Helios Calendar Powered Site
LOCATION:US Geological Survey Public Lecture Series -  \, \, CA  
CATEGORIES:BayAreaScience.org Events
PRIORITY:0
TRANSP:TRANSPARENT
END:VEVENT
END:VCALENDAR