BEGIN:VCALENDAR
VERSION:2.0
METHOD:PUBLISH
CALSCALE:GREGORIAN
PRODID:-//Refresh Web Development//Helios Calendar//EN
X-FROM-URL:https://www.bayareascience.org/calendar/index.php?com=details&eID=34355
X-WR-RELCALID:BayAreaScience.org Resilient Forest Series 20230827T100000
X-WR-TIMEZONE:America/New_York
X-WR-CALNAME:BayAreaScience.org
BEGIN:VEVENT
URL;VALUE=URI:https://www.bayareascience.org/calendar/index.php?com=detail&eID=34355
DTSTART:20230827T100000
DTEND:20230827T153000
SUMMARY:Resilient Forest Series
DESCRIPTION:Join Forestree Collective\, Regenerative Forest Solutions and Audubon Canyon Ranchâ€™s Fire Forward program for this series highlighting forest health practices\, ecological stewardship\, regional...\n______________________________\nThis Event Downloaded From a Helios Calendar Powered Site
LOCATION:The West Mill at Green Valley Farm + Mill - 13024D Green Valley Road \, Sebastopol\, CA  95472
CATEGORIES:BayAreaScience.org Events
PRIORITY:0
TRANSP:TRANSPARENT
END:VEVENT
END:VCALENDAR