BEGIN:VCALENDAR
VERSION:2.0
METHOD:PUBLISH
CALSCALE:GREGORIAN
PRODID:-//Refresh Web Development//Helios Calendar//EN
X-FROM-URL:https://www.bayareascience.org/calendar/index.php?com=details&eID=34363
X-WR-RELCALID:BayAreaScience.org 2023 Drake Awards 20230814T183000
X-WR-TIMEZONE:America/New_York
X-WR-CALNAME:BayAreaScience.org
BEGIN:VEVENT
URL;VALUE=URI:https://www.bayareascience.org/calendar/index.php?com=detail&eID=34363
DTSTART:20230814T183000
DTEND:20230814T210000
SUMMARY:2023 Drake Awards
DESCRIPTION:The Drake Awards is the SETI Institute's annual celebration of SETI science and the field's pioneers. Join us in person in Menlo Park\, CA\, or virtually to honor this year's recipient Dr. John Rummel\,...\n______________________________\nThis Event Downloaded From a Helios Calendar Powered Site
LOCATION:SETI Institute: SETI Talks - 339 North Bernardo Ave Suite 200\, Mountain View\, CA  94043
CATEGORIES:BayAreaScience.org Events
PRIORITY:0
TRANSP:TRANSPARENT
END:VEVENT
END:VCALENDAR