BEGIN:VCALENDAR
VERSION:2.0
METHOD:PUBLISH
CALSCALE:GREGORIAN
PRODID:-//Refresh Web Development//Helios Calendar//EN
X-FROM-URL:https://www.bayareascience.org/calendar/index.php?com=details&eID=34370
X-WR-RELCALID:BayAreaScience.org Protecting Blue Whales and Blue Skies in California's National Marine Sanctuaries - Livestream 20230822T190000
X-WR-TIMEZONE:America/New_York
X-WR-CALNAME:BayAreaScience.org
BEGIN:VEVENT
URL;VALUE=URI:https://www.bayareascience.org/calendar/index.php?com=detail&eID=34370
DTSTART:20230822T190000
DTEND:20230822T203000
SUMMARY:Protecting Blue Whales and Blue Skies in California's National Marine Sanctuaries - Livestream
DESCRIPTION:Please join ACS San Francisco Bay Chapter and Jess Morten\, Director of the Marine Resource Protection Program at the California...\n______________________________\nThis Event Downloaded From a Helios Calendar Powered Site
LOCATION:American Cetacean Society -  \, \, CA  
CATEGORIES:BayAreaScience.org Events
PRIORITY:0
TRANSP:TRANSPARENT
END:VEVENT
END:VCALENDAR