BEGIN:VCALENDAR
VERSION:2.0
METHOD:PUBLISH
CALSCALE:GREGORIAN
PRODID:-//Refresh Web Development//Helios Calendar//EN
X-FROM-URL:https://www.bayareascience.org/calendar/index.php?com=details&eID=34380
X-WR-RELCALID:BayAreaScience.org Science on Tap: Brews and Ethnobotany 20231109T173000
X-WR-TIMEZONE:America/New_York
X-WR-CALNAME:BayAreaScience.org
BEGIN:VEVENT
URL;VALUE=URI:https://www.bayareascience.org/calendar/index.php?com=detail&eID=34380
DTSTART:20231109T173000
DTEND:20231109T190000
SUMMARY:Science on Tap: Brews and Ethnobotany
DESCRIPTION:Science on Tap is our new series that mixes the best parts of learning about science with some of the best brews on the central coast! Each event will feature a happy...\n______________________________\nThis Event Downloaded From a Helios Calendar Powered Site
LOCATION:Other Brother Beer Co. - 877 Broadway Ave \, Seaside\, CA  93955
CATEGORIES:BayAreaScience.org Events
PRIORITY:0
TRANSP:TRANSPARENT
END:VEVENT
END:VCALENDAR